BEGIN:VCALENDAR
VERSION:2.0
PRODID:-//Squarespace Inc/Squarespace 6//v6//EN
BEGIN:VEVENT
UID:599d85969f8dce0dbc4e4d5a@squarespace.com
DTSTAMP:20170823T224626Z
DTSTART:20170916T100000Z
DTEND:20170916T140000Z
SUMMARY:Backyard Events' 1st Birthday | 16 SEPT 17
GEO:-31.899119;115.763884
LOCATION:Backyard Events\, Scarborough\, WA\, 6019\, Australia
END:VEVENT
END:VCALENDAR
