BEGIN:VCALENDAR
VERSION:2.0
PRODID:-//Squarespace Inc/Squarespace 6//v6//EN
BEGIN:VEVENT
UID:59211a1d1b10e3a47d09fc25@squarespace.com
DTSTAMP:20170521T101456Z
DTSTART:20170610T100000Z
DTEND:20170610T130000Z
SUMMARY:Art Space Collective | 10 JUNE 2017
GEO:-31.8942;115.7642
LOCATION:Backyard Events\, Scarborough WA 6019\, Australia
END:VEVENT
END:VCALENDAR
