BEGIN:VCALENDAR
VERSION:2.0
PRODID:-//Squarespace Inc/Squarespace 6//v6//EN
BEGIN:VEVENT
UID:5aa22932e4966bb3ff77e6cd@squarespace.com
DTSTAMP:20180309T062926Z
DTSTART:20180325T080000Z
DTEND:20180325T110000Z
SUMMARY:Courtyard Jamming | 25 MARCH 2018
END:VEVENT
END:VCALENDAR
