BEGIN:VCALENDAR
VERSION:2.0
PRODID:-//Squarespace Inc/Squarespace 6//v6//EN
BEGIN:VEVENT
UID:58e4de155016e194dd5c78bf@squarespace.com
DTSTAMP:20170509T042636Z
DTSTART:20170505T110000Z
DTEND:20170505T140000Z
SUMMARY:Backyard Events - 5 MAY 17
GEO:-31.8942;115.7642
LOCATION:Backyard Events\, Scarborough\, Australia
END:VEVENT
END:VCALENDAR
