BEGIN:VCALENDAR
VERSION:2.0
PRODID:-//Squarespace Inc/Squarespace 6//v6//EN
BEGIN:VEVENT
UID:59ff051dc83025d8b0f4a82d@squarespace.com
DTSTAMP:20171105T124042Z
DTSTART:20171105T130000Z
DTEND:20171105T140000Z
SUMMARY:Stacks of Summer
GEO:-32.055509;115.763853
LOCATION:10 Stack Street\, Fremantle\, Fremantle\, Australia
END:VEVENT
END:VCALENDAR
