BEGIN:VCALENDAR
VERSION:2.0
PRODID:-//Squarespace Inc/Squarespace 6//v6//EN
BEGIN:VEVENT
UID:58c52c86f5e23157c0b03547@squarespace.com
DTSTAMP:20170312T121905Z
DTSTART:20170401T110000Z
DTEND:20170401T155900Z
SUMMARY:Walker Warehouse Fundraiser
GEO:-32.046532;115.750949
LOCATION:Hawaiian Warehouse\, 1 James Street\, Fremantle\, WA\, 6160\, Aust
 ralia
END:VEVENT
END:VCALENDAR
