BEGIN:VCALENDAR
VERSION:2.0
PRODID:-//Squarespace Inc/Squarespace 6//v6//EN
BEGIN:VEVENT
UID:5ac956868a922dc7739ec3dc@squarespace.com
DTSTAMP:20180422T032709Z
DTSTART:20180518T110000Z
DTEND:20180518T150000Z
SUMMARY:Wild Oak | 18 MAY 2018
END:VEVENT
END:VCALENDAR
